BEGIN:VCALENDAR
VERSION:2.0
PRODID:-//Drive Clean Colorado - ECPv6.15.19//NONSGML v1.0//EN
CALSCALE:GREGORIAN
METHOD:PUBLISH
X-ORIGINAL-URL:https://drivecleancolorado.org
X-WR-CALDESC:Events for Drive Clean Colorado
REFRESH-INTERVAL;VALUE=DURATION:PT1H
X-Robots-Tag:noindex
X-PUBLISHED-TTL:PT1H
BEGIN:VTIMEZONE
TZID:America/Denver
BEGIN:DAYLIGHT
TZOFFSETFROM:-0700
TZOFFSETTO:-0600
TZNAME:MDT
DTSTART:20250309T090000
END:DAYLIGHT
BEGIN:STANDARD
TZOFFSETFROM:-0600
TZOFFSETTO:-0700
TZNAME:MST
DTSTART:20251102T080000
END:STANDARD
BEGIN:DAYLIGHT
TZOFFSETFROM:-0700
TZOFFSETTO:-0600
TZNAME:MDT
DTSTART:20260308T090000
END:DAYLIGHT
BEGIN:STANDARD
TZOFFSETFROM:-0600
TZOFFSETTO:-0700
TZNAME:MST
DTSTART:20261101T080000
END:STANDARD
BEGIN:DAYLIGHT
TZOFFSETFROM:-0700
TZOFFSETTO:-0600
TZNAME:MDT
DTSTART:20270314T090000
END:DAYLIGHT
BEGIN:STANDARD
TZOFFSETFROM:-0600
TZOFFSETTO:-0700
TZNAME:MST
DTSTART:20271107T080000
END:STANDARD
END:VTIMEZONE
BEGIN:VEVENT
DTSTART;TZID=America/Denver:20260827T093000
DTEND;TZID=America/Denver:20260827T103000
DTSTAMP:20260419T163749
CREATED:20251220T211621Z
LAST-MODIFIED:20251223T175934Z
UID:17719-1787823000-1787826600@drivecleancolorado.org
SUMMARY:August Coalition Conversation
DESCRIPTION:Drive Clean Colorado’s August Coalition Conversation continues on Thursday\, August 27\, from 9:30–10:30 AM. \nJoin our monthly Coalition Conversations as a steady touchpoint for collaboration\, idea-sharing\, and community-building. These sessions are open to anyone interested in advancing clean transportation and feature updates and introductions from new DCC members each month. \nWhether you’re a regular or joining for the first time\, this is a great opportunity to connect and stay informed as we head toward fall. \nRegister now!
URL:https://drivecleancolorado.org/event/august-coalition-conversation-2/
LOCATION:Virtual: Zoom
CATEGORIES:Coalition Conversation,Stakeholder
ATTACH;FMTTYPE=image/jpeg:https://drivecleancolorado.org/wp-content/uploads/8.jpg
END:VEVENT
END:VCALENDAR