BEGIN:VCALENDAR
VERSION:2.0
PRODID:-//Drive Clean Colorado - ECPv6.15.19//NONSGML v1.0//EN
CALSCALE:GREGORIAN
METHOD:PUBLISH
X-ORIGINAL-URL:https://drivecleancolorado.org
X-WR-CALDESC:Events for Drive Clean Colorado
REFRESH-INTERVAL;VALUE=DURATION:PT1H
X-Robots-Tag:noindex
X-PUBLISHED-TTL:PT1H
BEGIN:VTIMEZONE
TZID:America/Denver
BEGIN:DAYLIGHT
TZOFFSETFROM:-0700
TZOFFSETTO:-0600
TZNAME:MDT
DTSTART:20250309T090000
END:DAYLIGHT
BEGIN:STANDARD
TZOFFSETFROM:-0600
TZOFFSETTO:-0700
TZNAME:MST
DTSTART:20251102T080000
END:STANDARD
BEGIN:DAYLIGHT
TZOFFSETFROM:-0700
TZOFFSETTO:-0600
TZNAME:MDT
DTSTART:20260308T090000
END:DAYLIGHT
BEGIN:STANDARD
TZOFFSETFROM:-0600
TZOFFSETTO:-0700
TZNAME:MST
DTSTART:20261101T080000
END:STANDARD
BEGIN:DAYLIGHT
TZOFFSETFROM:-0700
TZOFFSETTO:-0600
TZNAME:MDT
DTSTART:20270314T090000
END:DAYLIGHT
BEGIN:STANDARD
TZOFFSETFROM:-0600
TZOFFSETTO:-0700
TZNAME:MST
DTSTART:20271107T080000
END:STANDARD
END:VTIMEZONE
BEGIN:VEVENT
DTSTART;TZID=America/Denver:20260502T100000
DTEND;TZID=America/Denver:20260502T140000
DTSTAMP:20260419T114314
CREATED:20260316T181244Z
LAST-MODIFIED:20260316T181313Z
UID:18562-1777716000-1777730400@drivecleancolorado.org
SUMMARY:Earth Day\, Every Day Festival
DESCRIPTION:Get ready for a down-to-Earth good time at the Earth Day\, Every Day Festival hosted by the Cities of Lafayette and Louisville. Enjoy a free kids’ concert\, hands-on nature lessons\, sustainable arts and crafts\, and more as we celebrate our local ecosystem and discover new ways to care for our planet. \nDrive Clean Colorado will be showcasing various Electric Vehicles (EVs) and providing resources on EV incentives\, ownership\, and charging. \nFun for the whole family!\n🎶 Jeff and Paige Kids’ Concert\n🐾 Meet the Animals\n🌱 Sustainable Makers Market\n⚡ Electric Vehicles + Food Trucks\n🚲 Bike Valet \nGetting to Earth Day\, Every Day\nParking will be limited\, so plan ahead! Carpool with friends\, hop on the bus\, walk\, or ride your bike to the event. We’ll have a free bike valet on site (and last year\, more than 60 bikes rolled in!)\, proving that two wheels are a fun and easy way to join the celebration. \nIf you are driving\, expect parking to be limited at the Bob L. Burger Recreation Center due to recreational activities in the athletic fields. \nThe Lafayette Fire Station and Lafayette Police Station on 111th St. will have overflow additional parking for the event.
URL:https://drivecleancolorado.org/event/earth-day-every-day-festival/
LOCATION:Bob L. Burger Recreation Center\, 111 W Baseline Rd\, Lafayette\, CO\, 80026\, United States
CATEGORIES:EV Charging
ATTACH;FMTTYPE=image/jpeg:https://drivecleancolorado.org/wp-content/uploads/Lafayette_2026-Earth-Day.jpeg
END:VEVENT
BEGIN:VEVENT
DTSTART;TZID=America/Denver:20260520T093000
DTEND;TZID=America/Denver:20260520T120000
DTSTAMP:20260419T114314
CREATED:20260218T222228Z
LAST-MODIFIED:20260310T232706Z
UID:18280-1779269400-1779278400@drivecleancolorado.org
SUMMARY:DCC Fleet Working Group with the City of Longmont
DESCRIPTION:Drive Clean Colorado will host the second DCC Fleet Working Group meeting on May 20\, 2026\, in partnership with the City of Longmont. This convening will bring together fleet managers\, public agencies\, private sector partners\, utilities\, and industry leaders to discuss fleet electrification progress\, infrastructure planning\, funding opportunities\, and lessons learned from projects across Colorado. \nThis session will feature John Gage\, Engineering & Operations Administrator with the City of Longmont\, who will share insights into the city’s renewable natural gas (RNG) initiative. The presentation will explore how the project fits within Longmont’s Sustainability Plan\, how waste is being converted into a fuel and revenue stream\, and key considerations around plant design\, construction\, operations\, project costs\, payback timelines\, and Renewable Identification Numbers (RINs). \nThe DCC Fleet Working Group serves as a collaborative forum for members to share real-world experiences\, address common challenges\, and advance fleet electrification and alternative fuel solutions across Colorado. As this is our second meeting\, we look forward to building on the momentum from our inaugural session. \nFor more information about the group’s purpose and structure\, please review the DCC Fleet Working Group Charter. Members are encouraged to reserve their spot by registering HERE.
URL:https://drivecleancolorado.org/event/longmont-dcc-fleet-working-group/
CATEGORIES:Fleet
ATTACH;FMTTYPE=image/jpeg:https://drivecleancolorado.org/wp-content/uploads/DCC-Fleet-Working-Group-Meeting-2.jpg
END:VEVENT
BEGIN:VEVENT
DTSTART;TZID=America/Denver:20260528T093000
DTEND;TZID=America/Denver:20260528T103000
DTSTAMP:20260419T114314
CREATED:20251216T053336Z
LAST-MODIFIED:20251216T053709Z
UID:17693-1779960600-1779964200@drivecleancolorado.org
SUMMARY:May Coalition Conversation
DESCRIPTION:Drive Clean Colorado’s May Coalition Conversation rolls ahead on Thursday\, May 28\, from 9:30–10:30 AM. \nThese monthly conversations continue to be a space to share updates\, spark ideas\, and stay connected to the people shaping clean transportation in Colorado. Coalition Conversations welcome anyone who wants to learn\, contribute\, and hear directly from DCC’s newest members about the work they’re doing. \nIt’s an energizing way to stay engaged\, exchange perspectives\, and keep moving forward together. We hope you’ll join us for the May conversation. \nRegister now!
URL:https://drivecleancolorado.org/event/may-coalition-conversation/
LOCATION:Virtual: Zoom
CATEGORIES:Coalition Conversation,Stakeholder
ATTACH;FMTTYPE=image/png:https://drivecleancolorado.org/wp-content/uploads/5-2.png
END:VEVENT
END:VCALENDAR