BEGIN:VCALENDAR
VERSION:2.0
PRODID:-//Drive Clean Colorado - ECPv6.15.19//NONSGML v1.0//EN
CALSCALE:GREGORIAN
METHOD:PUBLISH
X-ORIGINAL-URL:https://drivecleancolorado.org
X-WR-CALDESC:Events for Drive Clean Colorado
REFRESH-INTERVAL;VALUE=DURATION:PT1H
X-Robots-Tag:noindex
X-PUBLISHED-TTL:PT1H
BEGIN:VTIMEZONE
TZID:America/Denver
BEGIN:DAYLIGHT
TZOFFSETFROM:-0700
TZOFFSETTO:-0600
TZNAME:MDT
DTSTART:20250309T090000
END:DAYLIGHT
BEGIN:STANDARD
TZOFFSETFROM:-0600
TZOFFSETTO:-0700
TZNAME:MST
DTSTART:20251102T080000
END:STANDARD
BEGIN:DAYLIGHT
TZOFFSETFROM:-0700
TZOFFSETTO:-0600
TZNAME:MDT
DTSTART:20260308T090000
END:DAYLIGHT
BEGIN:STANDARD
TZOFFSETFROM:-0600
TZOFFSETTO:-0700
TZNAME:MST
DTSTART:20261101T080000
END:STANDARD
BEGIN:DAYLIGHT
TZOFFSETFROM:-0700
TZOFFSETTO:-0600
TZNAME:MDT
DTSTART:20270314T090000
END:DAYLIGHT
BEGIN:STANDARD
TZOFFSETFROM:-0600
TZOFFSETTO:-0700
TZNAME:MST
DTSTART:20271107T080000
END:STANDARD
END:VTIMEZONE
BEGIN:VEVENT
DTSTART;TZID=America/Denver:20260113T153000
DTEND;TZID=America/Denver:20260113T163000
DTSTAMP:20260419T114314
CREATED:20260113T000240Z
LAST-MODIFIED:20260113T000317Z
UID:17763-1768318200-1768321800@drivecleancolorado.org
SUMMARY:Charge Ahead Colorado | Informational Webinar - January 2026
DESCRIPTION:Looking for guidance on the Charge Ahead Colorado grant program?\nThis webinar offers direct support from program experts. Hosted by the Colorado Energy Office\, this session is designed to help current and prospective applicants understand the Charge Ahead Colorado grant — a statewide program that provides funding to support electric vehicle (EV) charging infrastructure and accelerate EV adoption. \nDuring the webinar\, you’ll hear from CEO program managers and ReCharge Coaches who will walk through program details\, funding structure\, eligibility\, and common application questions. Attendees will also have the opportunity to ask questions live\, including about their current applications. \nWhether you are actively applying or just beginning to explore funding for EV chargers\, this session is a valuable opportunity to gain clarity and connect with the experts managing the program.
URL:https://drivecleancolorado.org/event/charge-ahead-colorado-webinar-january-2026/
CATEGORIES:Charge Ahead Colorado
ATTACH;FMTTYPE=image/png:https://drivecleancolorado.org/wp-content/uploads/CAC-Webinar-1-13-26-scaled.png
END:VEVENT
BEGIN:VEVENT
DTSTART;TZID=America/Denver:20260115T120000
DTEND;TZID=America/Denver:20260115T130000
DTSTAMP:20260419T114314
CREATED:20251112T024138Z
LAST-MODIFIED:20260106T174431Z
UID:17231-1768478400-1768482000@drivecleancolorado.org
SUMMARY:TECH TALK: The State of the EV Charging Industry in Colorado
DESCRIPTION:NEW DATE AND TIME \nJoin us for an engaging discussion about the current state of EV charging in Colorado and what’s coming next for this rapidly growing industry. Register on Zoom HERE. \nOur speakers will share their perspectives on how charging infrastructure is expanding\, how new technology and standards are shaping the market\, and what these changes mean for communities\, fleets\, and businesses across the state. \nFeatured speakers: \nJim Burness\, CEO of National Car Charging \nMary Till\, Senior Business Development Specialist of Sawatch Labs\, a WEX Company \nBonnie Trowbridge\, Executive Director of Drive Clean Colorado \nWhether you work in transportation\, energy\, local government\, or simply care about Colorado’s clean energy future\, this one-hour virtual session will give you useful insights\, practical takeaways\, and a clearer view of the road ahead.
URL:https://drivecleancolorado.org/event/state-of-the-industry/
LOCATION:Virtual Webinar
CATEGORIES:Coalition Conversation,EV Charging
ATTACH;FMTTYPE=image/png:https://drivecleancolorado.org/wp-content/uploads/NCC-Tech-Talk-e1767721366249.png
END:VEVENT
BEGIN:VEVENT
DTSTART;TZID=America/Denver:20260126T120000
DTEND;TZID=America/Denver:20260126T133000
DTSTAMP:20260419T114314
CREATED:20260106T171433Z
LAST-MODIFIED:20260106T171505Z
UID:17744-1769428800-1769434200@drivecleancolorado.org
SUMMARY:EV Infrastructure Resilience: Insights from Across Colorado [Webinar]
DESCRIPTION:In this webinar we will share insights from a statewide stakeholder study engaging 180 voices across Colorado. We will highlight priority gaps\, regional differences\, and practical strategies to strengthen EV infrastructure reliability\, equity\, workforce readiness\, and grid resilience\, all grounded in real-world experience from communities statewide. \nSpeaker: Dr\, Thomas Bradley \nPresented by Colorado State University and Drive Clean Colorado \nREGISTER HERE
URL:https://drivecleancolorado.org/event/ev-infrastructure-resilience-insights-from-across-colorado-webinar/
LOCATION:Virtual Webinar
CATEGORIES:EV Charging,Stakeholder
ATTACH;FMTTYPE=image/jpeg:https://drivecleancolorado.org/wp-content/uploads/CSU-EV-Infrastructure-Resilience-Webinar.jpg
END:VEVENT
BEGIN:VEVENT
DTSTART;TZID=America/Denver:20260129T093000
DTEND;TZID=America/Denver:20260129T103000
DTSTAMP:20260419T114314
CREATED:20251003T044554Z
LAST-MODIFIED:20251203T021143Z
UID:15905-1769679000-1769682600@drivecleancolorado.org
SUMMARY:January Coalition Conversation
DESCRIPTION:Save the Date! \nDrive Clean Colorado’s January Coalition Conversation kicks off our 2026 series on Thursday\, January 29\, from 9:30–10:30 AM. \nThis year\, we’re excited to continue building momentum in clean transportation by bringing our community together each month. Coalition Conversations are open to anyone interested in advancing clean transportation across Colorado and feature opportunities to hear directly from new DCC members. These virtual events are a great chance to connect and collaborate with industry peers in a casual\, engaging environment. Your participation is key to these conversations\, and we look forward to starting the new year with you! \nRegister now!
URL:https://drivecleancolorado.org/event/january-coalition-conversation/
CATEGORIES:Coalition Conversation,Stakeholder
ATTACH;FMTTYPE=image/png:https://drivecleancolorado.org/wp-content/uploads/Coalition-Conversation-January-26.png
END:VEVENT
END:VCALENDAR