BEGIN:VCALENDAR
VERSION:2.0
PRODID:-//Drive Clean Colorado - ECPv6.15.19//NONSGML v1.0//EN
CALSCALE:GREGORIAN
METHOD:PUBLISH
X-ORIGINAL-URL:https://drivecleancolorado.org
X-WR-CALDESC:Events for Drive Clean Colorado
REFRESH-INTERVAL;VALUE=DURATION:PT1H
X-Robots-Tag:noindex
X-PUBLISHED-TTL:PT1H
BEGIN:VTIMEZONE
TZID:America/Denver
BEGIN:DAYLIGHT
TZOFFSETFROM:-0700
TZOFFSETTO:-0600
TZNAME:MDT
DTSTART:20240310T090000
END:DAYLIGHT
BEGIN:STANDARD
TZOFFSETFROM:-0600
TZOFFSETTO:-0700
TZNAME:MST
DTSTART:20241103T080000
END:STANDARD
BEGIN:DAYLIGHT
TZOFFSETFROM:-0700
TZOFFSETTO:-0600
TZNAME:MDT
DTSTART:20250309T090000
END:DAYLIGHT
BEGIN:STANDARD
TZOFFSETFROM:-0600
TZOFFSETTO:-0700
TZNAME:MST
DTSTART:20251102T080000
END:STANDARD
BEGIN:DAYLIGHT
TZOFFSETFROM:-0700
TZOFFSETTO:-0600
TZNAME:MDT
DTSTART:20260308T090000
END:DAYLIGHT
BEGIN:STANDARD
TZOFFSETFROM:-0600
TZOFFSETTO:-0700
TZNAME:MST
DTSTART:20261101T080000
END:STANDARD
END:VTIMEZONE
BEGIN:VEVENT
DTSTART;TZID=America/Denver:20250612T090000
DTEND;TZID=America/Denver:20250612T130000
DTSTAMP:20260421T081836
CREATED:20250527T160001Z
LAST-MODIFIED:20250527T160001Z
UID:14636-1749718800-1749733200@drivecleancolorado.org
SUMMARY:CSU Ride & Drive Event
DESCRIPTION:CSU Ride & Drive EventJune 12\, 2025 | 9:00 AM – 1:00 PMMoby Parking Lot\, CSU – 951 W Plum St.\, Fort Collins\, CO \nJoin Drive Clean Colorado and CSU for a hands-on EV Ride & Drive event! Get behind the wheel of an electric vehicle in a no pressure environment and learn more about charging options\, available incentives\, and how EVs can fit into your fleet or daily commute. \nThis event is open to all! We invite CSU students and staff\, community members\, as well as fleet managers from across Northern Colorado. Come ready with your questions and curiosity\, we hope to see you there!
URL:https://drivecleancolorado.org/event/csu-ride-drive-event/
LOCATION:Colorado State University\, 951 W Plum St\, Fort Collins\, CO\, 80521
ATTACH;FMTTYPE=image/png:https://drivecleancolorado.org/wp-content/uploads/CSU-EV-ride-and-drive.png
END:VEVENT
BEGIN:VEVENT
DTSTART;TZID=America/Denver:20250612T160000
DTEND;TZID=America/Denver:20250612T180000
DTSTAMP:20260421T081836
CREATED:20250523T024039Z
LAST-MODIFIED:20250602T213720Z
UID:14625-1749744000-1749751200@drivecleancolorado.org
SUMMARY:Community Listening Session: Brush
DESCRIPTION:ChargeWest is an EV corridor collaborative across eight states in the Intermountain West region\, committed to improving electric corridors throughout rural gateway communities\, state and national parks\, and scenic byways. Through this project\, Drive Clean Colorado is conducting a series of listening sessions with communities across the state. These sessions will focus on identifying EV infrastructure gaps\, community barriers\, and key resources needed for rural and gateway communities. Your participation is vital to ensure ChargeWest’s efforts to build connected\, resilient\, and community-driven electric corridors reflect the needs of the regions they serve. \n\nInterested in participating in the Brush Community Listening Session? Contact us here. \n\n\n\n\n 
URL:https://drivecleancolorado.org/event/community-listening-session-brush/
LOCATION:Brush\, Colorado
ATTACH;FMTTYPE=image/png:https://drivecleancolorado.org/wp-content/uploads/Screenshot-2025-06-02-at-3.35.27 PM.png
END:VEVENT
BEGIN:VEVENT
DTSTART;TZID=America/Denver:20250617T100000
DTEND;TZID=America/Denver:20250617T110000
DTSTAMP:20260421T081836
CREATED:20250422T194305Z
LAST-MODIFIED:20260126T211832Z
UID:14393-1750154400-1750158000@drivecleancolorado.org
SUMMARY:Drive Clean Colorado Tech Talk: Charging-as-a-Service with Electrada
DESCRIPTION:MISSED THE WEBINAR? Watch the video here. \nDrive Clean Colorado Tech Talk: Charging-as-a-Service with ElectradaTuesday\, June 17th | 10:00–10:45 AM (MT) | Virtual*Please note this event has been postponed from the original date of Thursday\, May 15 \nOur first session will feature Electrada\,\, a charging-as-a-service provider committed to delivering 99% uptime for fleet EV charging operations. Electrada’s unique business model includes a dollar-for-dollar EV charging infrastructure buy-out program\, allowing them to fully own and manage existing assets while providing turnkey service solutions. \nIn this session\, Ryan Monahan (Director of Business Development)\, Dave Mulder (VP of Solutions)\, and Jenn Fiegel (VP of Customer Success) will break down Electrada’s approach to electric fuel\, how they operationalize fleet charging depots\, and the strategies behind their performance guarantees. You’ll also hear real-world examples of how their model is helping fleets across the country overcome common electrification challenges. \nWe’ll close with an open Q&A — come ready with questions!Register now to save your spot. \nREGISTER HERE
URL:https://drivecleancolorado.org/event/drive-clean-colorado-tech-talk-charging-as-a-service-with-electrada/
CATEGORIES:Fleet,Stakeholder
ATTACH;FMTTYPE=image/jpeg:https://drivecleancolorado.org/wp-content/uploads/Blue-Dark-Professional-Geometric-Business-Project-Presentation-1.jpg
END:VEVENT
BEGIN:VEVENT
DTSTART;TZID=America/Denver:20250617T143000
DTEND;TZID=America/Denver:20250617T163000
DTSTAMP:20260421T081836
CREATED:20250523T024359Z
LAST-MODIFIED:20250602T213620Z
UID:14631-1750170600-1750177800@drivecleancolorado.org
SUMMARY:Community Listening Session: Salida
DESCRIPTION:ChargeWest is an EV corridor collaborative across eight states in the Intermountain West region\, committed to improving electric corridors throughout rural gateway communities\, state and national parks\, and scenic byways. Through this project\, Drive Clean Colorado is conducting a series of listening sessions with communities across the state. These sessions will focus on identifying EV infrastructure gaps\, community barriers\, and key resources needed for rural and gateway communities. Your participation is vital to ensure ChargeWest’s efforts to build connected\, resilient\, and community-driven electric corridors reflect the needs of the regions they serve. \n\nInterested in participating in the Salida Community Listening Session? Contact us here.
URL:https://drivecleancolorado.org/event/community-listening-session-salida/
ATTACH;FMTTYPE=image/png:https://drivecleancolorado.org/wp-content/uploads/Screenshot-2025-06-02-at-3.35.35 PM.png
END:VEVENT
BEGIN:VEVENT
DTSTART;TZID=America/Denver:20250621T100000
DTEND;TZID=America/Denver:20250621T200000
DTSTAMP:20260421T081836
CREATED:20250617T155408Z
LAST-MODIFIED:20250617T155408Z
UID:14753-1750500000-1750536000@drivecleancolorado.org
SUMMARY:Juneteenth + EV Showcase
DESCRIPTION:
URL:https://drivecleancolorado.org/event/juneteenth-ev-showcase/
LOCATION:Citadel Mall Parking Lot\, 750 Citadel Dr\, Colorado Springs
END:VEVENT
BEGIN:VEVENT
DTSTART;TZID=America/Denver:20250624T093000
DTEND;TZID=America/Denver:20250624T103000
DTSTAMP:20260421T081836
CREATED:20241210T221433Z
LAST-MODIFIED:20250616T170529Z
UID:13181-1750757400-1750761000@drivecleancolorado.org
SUMMARY:Coalition Conversation - June
DESCRIPTION:Join us for the June Coalition Conversation\, taking place on June 24th from 9:30-10:30am MT!\nPlease note this is the updated meeting date and time rescheduled from the original date of June 26th. \nThese monthly virtual meetups are open to anyone interested in advancing clean transportation across Colorado and are a great opportunity to connect and collaborate with fellow industry leaders in a casual environment. Each session features updates from DCC\, time for discussion and Q&A\, and presentations from new and returning members who are making an impact across the state. \nThis month we’re thrilled to feature DCC members: \n\n\nPanasonic \n\n\nPhil Long \n\n\nSawatch Labs\, a WEX company \n\n\nThese virtual events are a great opportunity to connect and collaborate with fellow industry leaders in a casual environment. Your participation is key to these important discussions\, and we look forward to having you join us! \nREGISTER NOW!\n* When registering\, please ensure you select all Coalition Conversation dates you plan to attend.
URL:https://drivecleancolorado.org/event/coalition-conversation-june/
CATEGORIES:Coalition Conversation,Stakeholder
ATTACH;FMTTYPE=image/png:https://drivecleancolorado.org/wp-content/uploads/Coalition-Conversation-Graphic-Templates-1.png
END:VEVENT
BEGIN:VEVENT
DTSTART;TZID=America/Denver:20250630T113000
DTEND;TZID=America/Denver:20250630T130000
DTSTAMP:20260421T081836
CREATED:20250610T173907Z
LAST-MODIFIED:20250610T173907Z
UID:14732-1751283000-1751288400@drivecleancolorado.org
SUMMARY:Listening Lunch: EV Resiliency Planning
DESCRIPTION:Join us and spread the word! Colorado State University\, Clean Energy Economy for the Region (CLEER)\, and Drive Clean Colorado are hosting a listening session on Monday\, June 30th from 11:30 – 1:00PM at the Morgridge Commons in Glenwood Springs.\nLink for registration: https://col.st/86OrY  |  CSU Contact: Jeff.Engell@colostate.edu
URL:https://drivecleancolorado.org/event/listening-lunch-ev-resiliency-planning/
LOCATION:Morgridge Commons\, Glenwood Springs\, CO
ATTACH;FMTTYPE=image/png:https://drivecleancolorado.org/wp-content/uploads/EV-Resilience-Listening-Session_SouthWest_Final.png
END:VEVENT
END:VCALENDAR