BEGIN:VCALENDAR
VERSION:2.0
PRODID:-//Drive Clean Colorado - ECPv6.15.19//NONSGML v1.0//EN
CALSCALE:GREGORIAN
METHOD:PUBLISH
X-WR-CALNAME:Drive Clean Colorado
X-ORIGINAL-URL:https://drivecleancolorado.org
X-WR-CALDESC:Events for Drive Clean Colorado
REFRESH-INTERVAL;VALUE=DURATION:PT1H
X-Robots-Tag:noindex
X-PUBLISHED-TTL:PT1H
BEGIN:VTIMEZONE
TZID:America/Denver
BEGIN:DAYLIGHT
TZOFFSETFROM:-0700
TZOFFSETTO:-0600
TZNAME:MDT
DTSTART:20250309T090000
END:DAYLIGHT
BEGIN:STANDARD
TZOFFSETFROM:-0600
TZOFFSETTO:-0700
TZNAME:MST
DTSTART:20251102T080000
END:STANDARD
BEGIN:DAYLIGHT
TZOFFSETFROM:-0700
TZOFFSETTO:-0600
TZNAME:MDT
DTSTART:20260308T090000
END:DAYLIGHT
BEGIN:STANDARD
TZOFFSETFROM:-0600
TZOFFSETTO:-0700
TZNAME:MST
DTSTART:20261101T080000
END:STANDARD
BEGIN:DAYLIGHT
TZOFFSETFROM:-0700
TZOFFSETTO:-0600
TZNAME:MDT
DTSTART:20270314T090000
END:DAYLIGHT
BEGIN:STANDARD
TZOFFSETFROM:-0600
TZOFFSETTO:-0700
TZNAME:MST
DTSTART:20271107T080000
END:STANDARD
END:VTIMEZONE
BEGIN:VEVENT
DTSTART;TZID=America/Denver:20260317T110000
DTEND;TZID=America/Denver:20260317T120000
DTSTAMP:20260421T220246
CREATED:20260307T000635Z
LAST-MODIFIED:20260307T000635Z
UID:18528-1773745200-1773748800@drivecleancolorado.org
SUMMARY:Charge Ahead Colorado Deeded and Assigned EV Charging - Webinar
DESCRIPTION:The Colorado Energy Office (CEO) will be hosting a couple of Charge Ahead Colorado Deeded and Assigned EV Charging Webinars! \nIf you manage\, own\, or work with multifamily housing\, this is your chance to learn about proposed incentives specifically designed for deeded and assigned parking. We’ll be diving into the results of the July 2025 RFI and outlining new eligibility criteria to help you bring EV charging to your residents. \nWebinar Sessions:\n📅 March 17\, 2026 at 11:00 AM MT\n📅 March 24\, 2026 at 11:00 AM MT \nCharge Ahead Colorado is dedicated to improving air quality and supporting the Colorado EV Plan through competitive grant funding. Join us for a live Q&A to see how your property can benefit! \nRegister today: https://bit.ly/46K9O9E
URL:https://drivecleancolorado.org/event/cac-deeded-and-assigned-ev-charging-webinar/
CATEGORIES:Charge Ahead Colorado,Multi-Family Housing
ATTACH;FMTTYPE=image/jpeg:https://drivecleancolorado.org/wp-content/uploads/CEO-Webinar_CAC-Deeded-and-Assigned-EV-Charging-317.jpeg
END:VEVENT
END:VCALENDAR