BEGIN:VCALENDAR
VERSION:2.0
PRODID:-//Drive Clean Colorado - ECPv6.15.19//NONSGML v1.0//EN
CALSCALE:GREGORIAN
METHOD:PUBLISH
X-ORIGINAL-URL:https://drivecleancolorado.org
X-WR-CALDESC:Events for Drive Clean Colorado
REFRESH-INTERVAL;VALUE=DURATION:PT1H
X-Robots-Tag:noindex
X-PUBLISHED-TTL:PT1H
BEGIN:VTIMEZONE
TZID:America/Denver
BEGIN:DAYLIGHT
TZOFFSETFROM:-0700
TZOFFSETTO:-0600
TZNAME:MDT
DTSTART:20250309T090000
END:DAYLIGHT
BEGIN:STANDARD
TZOFFSETFROM:-0600
TZOFFSETTO:-0700
TZNAME:MST
DTSTART:20251102T080000
END:STANDARD
BEGIN:DAYLIGHT
TZOFFSETFROM:-0700
TZOFFSETTO:-0600
TZNAME:MDT
DTSTART:20260308T090000
END:DAYLIGHT
BEGIN:STANDARD
TZOFFSETFROM:-0600
TZOFFSETTO:-0700
TZNAME:MST
DTSTART:20261101T080000
END:STANDARD
BEGIN:DAYLIGHT
TZOFFSETFROM:-0700
TZOFFSETTO:-0600
TZNAME:MDT
DTSTART:20270314T090000
END:DAYLIGHT
BEGIN:STANDARD
TZOFFSETFROM:-0600
TZOFFSETTO:-0700
TZNAME:MST
DTSTART:20271107T080000
END:STANDARD
END:VTIMEZONE
BEGIN:VEVENT
DTSTART;TZID=America/Denver:20260425T100000
DTEND;TZID=America/Denver:20260425T160000
DTSTAMP:20260425T083919
CREATED:20260325T232159Z
LAST-MODIFIED:20260325T233819Z
UID:18635-1777111200-1777132800@drivecleancolorado.org
SUMMARY:Plug in with Bigfoot at Estes Park Bigfoot Days!
DESCRIPTION:Drive Clean Colorado\, in partnership with Charge Across Town\, is excited to bring an Electric Vehicle Experience to one of Colorado’s most unique and fun community festivals. Whether you’re EV-curious or ready to make the switch\, this is your chance to explore a variety of electric vehicles in a hands-on\, approachable setting. \nStop by the Drive Clean Colorado booth to connect with our team and get your questions answered on everything from EV charging and infrastructure to available incentives and rebates across Colorado. We’re here to help you understand what it takes to drive electric—at home\, at work\, or on the road. \nSet alongside the energy of Bigfoot Days\, complete with live music\, vendors\, races\, and family-friendly fun. \nCome for the Bigfoot\, stay for the EVs\, and leave with the knowledge and resources to take the next step toward driving electric! \nLearn more about the EV Experience HERE
URL:https://drivecleancolorado.org/event/estes-park-bigfoot-days/
LOCATION:Estes Park Town Hall\, 170 MacGregor Ave\, Estes Park\, CO\, 80517\, United States
CATEGORIES:Funding Opportunities,Ride & Drive
ATTACH;FMTTYPE=image/png:https://drivecleancolorado.org/wp-content/uploads/DCC-Bigfoot-Days-Event-Flyer.png
END:VEVENT
END:VCALENDAR