BEGIN:VCALENDAR
VERSION:2.0
PRODID:-//Drive Clean Colorado - ECPv6.15.19//NONSGML v1.0//EN
CALSCALE:GREGORIAN
METHOD:PUBLISH
X-ORIGINAL-URL:https://drivecleancolorado.org
X-WR-CALDESC:Events for Drive Clean Colorado
REFRESH-INTERVAL;VALUE=DURATION:PT1H
X-Robots-Tag:noindex
X-PUBLISHED-TTL:PT1H
BEGIN:VTIMEZONE
TZID:America/Denver
BEGIN:DAYLIGHT
TZOFFSETFROM:-0700
TZOFFSETTO:-0600
TZNAME:MDT
DTSTART:20250309T090000
END:DAYLIGHT
BEGIN:STANDARD
TZOFFSETFROM:-0600
TZOFFSETTO:-0700
TZNAME:MST
DTSTART:20251102T080000
END:STANDARD
BEGIN:DAYLIGHT
TZOFFSETFROM:-0700
TZOFFSETTO:-0600
TZNAME:MDT
DTSTART:20260308T090000
END:DAYLIGHT
BEGIN:STANDARD
TZOFFSETFROM:-0600
TZOFFSETTO:-0700
TZNAME:MST
DTSTART:20261101T080000
END:STANDARD
BEGIN:DAYLIGHT
TZOFFSETFROM:-0700
TZOFFSETTO:-0600
TZNAME:MDT
DTSTART:20270314T090000
END:DAYLIGHT
BEGIN:STANDARD
TZOFFSETFROM:-0600
TZOFFSETTO:-0700
TZNAME:MST
DTSTART:20271107T080000
END:STANDARD
END:VTIMEZONE
BEGIN:VEVENT
DTSTART;TZID=America/Denver:20260528T093000
DTEND;TZID=America/Denver:20260528T103000
DTSTAMP:20260419T131835
CREATED:20251216T053336Z
LAST-MODIFIED:20251216T053709Z
UID:17693-1779960600-1779964200@drivecleancolorado.org
SUMMARY:May Coalition Conversation
DESCRIPTION:Drive Clean Colorado’s May Coalition Conversation rolls ahead on Thursday\, May 28\, from 9:30–10:30 AM. \nThese monthly conversations continue to be a space to share updates\, spark ideas\, and stay connected to the people shaping clean transportation in Colorado. Coalition Conversations welcome anyone who wants to learn\, contribute\, and hear directly from DCC’s newest members about the work they’re doing. \nIt’s an energizing way to stay engaged\, exchange perspectives\, and keep moving forward together. We hope you’ll join us for the May conversation. \nRegister now!
URL:https://drivecleancolorado.org/event/may-coalition-conversation/
LOCATION:Virtual: Zoom
CATEGORIES:Coalition Conversation,Stakeholder
ATTACH;FMTTYPE=image/png:https://drivecleancolorado.org/wp-content/uploads/5-2.png
END:VEVENT
END:VCALENDAR