BEGIN:VCALENDAR
VERSION:2.0
PRODID:-//Drive Clean Colorado - ECPv6.15.19//NONSGML v1.0//EN
CALSCALE:GREGORIAN
METHOD:PUBLISH
X-WR-CALNAME:Drive Clean Colorado
X-ORIGINAL-URL:https://drivecleancolorado.org
X-WR-CALDESC:Events for Drive Clean Colorado
REFRESH-INTERVAL;VALUE=DURATION:PT1H
X-Robots-Tag:noindex
X-PUBLISHED-TTL:PT1H
BEGIN:VTIMEZONE
TZID:America/Denver
BEGIN:DAYLIGHT
TZOFFSETFROM:-0700
TZOFFSETTO:-0600
TZNAME:MDT
DTSTART:20250309T090000
END:DAYLIGHT
BEGIN:STANDARD
TZOFFSETFROM:-0600
TZOFFSETTO:-0700
TZNAME:MST
DTSTART:20251102T080000
END:STANDARD
BEGIN:DAYLIGHT
TZOFFSETFROM:-0700
TZOFFSETTO:-0600
TZNAME:MDT
DTSTART:20260308T090000
END:DAYLIGHT
BEGIN:STANDARD
TZOFFSETFROM:-0600
TZOFFSETTO:-0700
TZNAME:MST
DTSTART:20261101T080000
END:STANDARD
BEGIN:DAYLIGHT
TZOFFSETFROM:-0700
TZOFFSETTO:-0600
TZNAME:MDT
DTSTART:20270314T090000
END:DAYLIGHT
BEGIN:STANDARD
TZOFFSETFROM:-0600
TZOFFSETTO:-0700
TZNAME:MST
DTSTART:20271107T080000
END:STANDARD
END:VTIMEZONE
BEGIN:VEVENT
DTSTART;TZID=America/Denver:20260430T093000
DTEND;TZID=America/Denver:20260430T103000
DTSTAMP:20260419T113920
CREATED:20251216T052825Z
LAST-MODIFIED:20260406T165525Z
UID:17683-1777541400-1777545000@drivecleancolorado.org
SUMMARY:April Coalition Conversation
DESCRIPTION:Drive Clean Colorado’s April Coalition Conversation is happening on Thursday\, April 30\, from 9:30–10:30 AM. \nSpring is in full swing\, and it’s a great time to reconnect\, compare notes\, and check in on what’s unfolding across Colorado’s clean transportation ecosystem. Coalition Conversations are open to anyone interested in this work\, and each month features introductions from new DCC members and a closer look at the projects they’re advancing. \nIt’s a low-pressure\, high-value hour of conversation with people who care about progress and collaboration. Grab your coffee and join us as we build momentum together this spring. \nRegister now!
URL:https://drivecleancolorado.org/event/april-coalition-conversation/
LOCATION:Virtual: Zoom
CATEGORIES:Coalition Conversation,Stakeholder
ATTACH;FMTTYPE=image/png:https://drivecleancolorado.org/wp-content/uploads/4.png
END:VEVENT
BEGIN:VEVENT
DTSTART;TZID=America/Denver:20260430T130000
DTEND;TZID=America/Denver:20260430T163000
DTSTAMP:20260419T113920
CREATED:20260312T182953Z
LAST-MODIFIED:20260407T232845Z
UID:18536-1777554000-1777566600@drivecleancolorado.org
SUMMARY:HYDROGEN 102 – How to Start a Hydrogen Hub: Colorado Style!
DESCRIPTION:Ready to dive deeper into the hydrogen revolution? Join us in person for Hydrogen 102\, where we’ll explore how to kickstart a hydrogen hub the Colorado way. Connect with passionate people\, learn practical steps\, and get inspired by real-world success stories from across the state. \nToday\, fleets face mounting pressure to reduce their carbon footprint and improve energy reliability. Meeting these challenges means moving away from diesel combustion engines toward cleaner alternatives — and change of that scale can feel daunting. \nWe’re here to help. Hydrogen and fuel cell electric vehicles can play a significant role in your transition planning. At this event\, you’ll: \n\nHear from other fleets navigating the same challenges\nLearn from hydrogen industry experts\nConnect with the local community\n\nRegister here
URL:https://drivecleancolorado.org/event/hydrogen-102/
LOCATION:CSU Powerhouse Energy Campus\, 430 North College Avenue\, Ft. Collins\, CO\, 80524\, United States
CATEGORIES:Drive Clean Connection,Fleet,Hydrogen
ATTACH;FMTTYPE=image/png:https://drivecleancolorado.org/wp-content/uploads/Untitled-500-x-200-px.png
END:VEVENT
END:VCALENDAR