BEGIN:VCALENDAR
VERSION:2.0
PRODID:-//Drive Clean Colorado - ECPv6.15.19//NONSGML v1.0//EN
CALSCALE:GREGORIAN
METHOD:PUBLISH
X-WR-CALNAME:Drive Clean Colorado
X-ORIGINAL-URL:https://drivecleancolorado.org
X-WR-CALDESC:Events for Drive Clean Colorado
REFRESH-INTERVAL;VALUE=DURATION:PT1H
X-Robots-Tag:noindex
X-PUBLISHED-TTL:PT1H
BEGIN:VTIMEZONE
TZID:America/Denver
BEGIN:DAYLIGHT
TZOFFSETFROM:-0700
TZOFFSETTO:-0600
TZNAME:MDT
DTSTART:20240310T090000
END:DAYLIGHT
BEGIN:STANDARD
TZOFFSETFROM:-0600
TZOFFSETTO:-0700
TZNAME:MST
DTSTART:20241103T080000
END:STANDARD
BEGIN:DAYLIGHT
TZOFFSETFROM:-0700
TZOFFSETTO:-0600
TZNAME:MDT
DTSTART:20250309T090000
END:DAYLIGHT
BEGIN:STANDARD
TZOFFSETFROM:-0600
TZOFFSETTO:-0700
TZNAME:MST
DTSTART:20251102T080000
END:STANDARD
BEGIN:DAYLIGHT
TZOFFSETFROM:-0700
TZOFFSETTO:-0600
TZNAME:MDT
DTSTART:20260308T090000
END:DAYLIGHT
BEGIN:STANDARD
TZOFFSETFROM:-0600
TZOFFSETTO:-0700
TZNAME:MST
DTSTART:20261101T080000
END:STANDARD
END:VTIMEZONE
BEGIN:VEVENT
DTSTART;VALUE=DATE:20250826
DTEND;VALUE=DATE:20250829
DTSTAMP:20260421T064742
CREATED:20250801T204641Z
LAST-MODIFIED:20250801T204641Z
UID:15004-1756166400-1756425599@drivecleancolorado.org
SUMMARY:Green Transportation Summit & Expo (GTSE) 2025
DESCRIPTION:Green Transportation Summit & Expo (GTSE) 2025August 26–28\, 2025 | Greater Tacoma Convention Center | Tacoma\, WA \nDrive Clean Colorado is proud to partner with the Green Transportation Summit & Expo (GTSE) 2025\, the region’s leading solutions-focused transportation conference. This three-day event brings together fleet professionals\, clean transportation advocates\, and industry leaders to explore real-world strategies for clean fuels\, EV infrastructure\, fleet decarbonization\, and resilience. \nJoin us in Tacoma\, WA\, to connect with peers\, gain actionable insights\, and help shape the future of sustainable mobility.Learn more: https://www.gtsummitexpo.com \n#GTSE2025 #SustainableTransportation #FleetInnovation #GreenFleets #TransportationInnovation #FleetResilience
URL:https://drivecleancolorado.org/event/green-transportation-summit-expo-gtse-2025/
LOCATION:Greater Tacoma Convention Center\, 1500 Commerce St.\, Tacoma\, WA\, 98402\, United States
ATTACH;FMTTYPE=image/png:https://drivecleancolorado.org/wp-content/uploads/Linkedin-Exhibitor-Graphic-01.png
END:VEVENT
END:VCALENDAR