BEGIN:VCALENDAR
VERSION:2.0
PRODID:-//Drive Clean Colorado - ECPv6.15.19//NONSGML v1.0//EN
CALSCALE:GREGORIAN
METHOD:PUBLISH
X-ORIGINAL-URL:https://drivecleancolorado.org
X-WR-CALDESC:Events for Drive Clean Colorado
REFRESH-INTERVAL;VALUE=DURATION:PT1H
X-Robots-Tag:noindex
X-PUBLISHED-TTL:PT1H
BEGIN:VTIMEZONE
TZID:America/Denver
BEGIN:DAYLIGHT
TZOFFSETFROM:-0700
TZOFFSETTO:-0600
TZNAME:MDT
DTSTART:20240310T090000
END:DAYLIGHT
BEGIN:STANDARD
TZOFFSETFROM:-0600
TZOFFSETTO:-0700
TZNAME:MST
DTSTART:20241103T080000
END:STANDARD
BEGIN:DAYLIGHT
TZOFFSETFROM:-0700
TZOFFSETTO:-0600
TZNAME:MDT
DTSTART:20250309T090000
END:DAYLIGHT
BEGIN:STANDARD
TZOFFSETFROM:-0600
TZOFFSETTO:-0700
TZNAME:MST
DTSTART:20251102T080000
END:STANDARD
BEGIN:DAYLIGHT
TZOFFSETFROM:-0700
TZOFFSETTO:-0600
TZNAME:MDT
DTSTART:20260308T090000
END:DAYLIGHT
BEGIN:STANDARD
TZOFFSETFROM:-0600
TZOFFSETTO:-0700
TZNAME:MST
DTSTART:20261101T080000
END:STANDARD
END:VTIMEZONE
BEGIN:VEVENT
DTSTART;TZID=America/Denver:20250701T100000
DTEND;TZID=America/Denver:20250701T110000
DTSTAMP:20260421T082553
CREATED:20250602T211121Z
LAST-MODIFIED:20250602T212730Z
UID:14661-1751364000-1751367600@drivecleancolorado.org
SUMMARY:First Responder Working Group Listening Session
DESCRIPTION:The purpose of this listening session will be to give the Clean Cities & Communities network an opportunity to learn more about the First Responder Working Group that Drive Clean Colorado managed and ask questions. It is also intended to open discussions around what efforts have been made in other states related to the topic of first responder safety when responding to electric vehicle fires & crashes. \nAgenda: \n\nShare the purpose of the group\, how the sessions were conducted\, topics discussed\, and people in the room. Hear from the steering committee / first responders.\nShare conversation takeaways\, overall sentiments from the group\, and final needs assessment document.\nDiscuss implementation plan.\nComments from NREL – John Gonzales\nOpen the discussion up for questions.\n\nWhat have efforts been in other states?\nAre there any concerns to be addressed from the session attendees?\nWhere can Drive Clean Colorado help?\nFinal questions?\n\n\n\nREGISTER HERE \n 
URL:https://drivecleancolorado.org/event/first-responder-working-group-listening-session/
LOCATION:Zoom
ATTACH;FMTTYPE=image/png:https://drivecleancolorado.org/wp-content/uploads/Screenshot-2025-06-02-at-3.24.26 PM.png
END:VEVENT
END:VCALENDAR