BEGIN:VCALENDAR
VERSION:2.0
PRODID:-//Drive Clean Colorado - ECPv6.15.19//NONSGML v1.0//EN
CALSCALE:GREGORIAN
METHOD:PUBLISH
X-WR-CALNAME:Drive Clean Colorado
X-ORIGINAL-URL:https://drivecleancolorado.org
X-WR-CALDESC:Events for Drive Clean Colorado
REFRESH-INTERVAL;VALUE=DURATION:PT1H
X-Robots-Tag:noindex
X-PUBLISHED-TTL:PT1H
BEGIN:VTIMEZONE
TZID:America/Denver
BEGIN:DAYLIGHT
TZOFFSETFROM:-0700
TZOFFSETTO:-0600
TZNAME:MDT
DTSTART:20240310T090000
END:DAYLIGHT
BEGIN:STANDARD
TZOFFSETFROM:-0600
TZOFFSETTO:-0700
TZNAME:MST
DTSTART:20241103T080000
END:STANDARD
BEGIN:DAYLIGHT
TZOFFSETFROM:-0700
TZOFFSETTO:-0600
TZNAME:MDT
DTSTART:20250309T090000
END:DAYLIGHT
BEGIN:STANDARD
TZOFFSETFROM:-0600
TZOFFSETTO:-0700
TZNAME:MST
DTSTART:20251102T080000
END:STANDARD
BEGIN:DAYLIGHT
TZOFFSETFROM:-0700
TZOFFSETTO:-0600
TZNAME:MDT
DTSTART:20260308T090000
END:DAYLIGHT
BEGIN:STANDARD
TZOFFSETFROM:-0600
TZOFFSETTO:-0700
TZNAME:MST
DTSTART:20261101T080000
END:STANDARD
END:VTIMEZONE
BEGIN:VEVENT
DTSTART;TZID=America/Denver:20250630T113000
DTEND;TZID=America/Denver:20250630T130000
DTSTAMP:20260421T082541
CREATED:20250610T173907Z
LAST-MODIFIED:20250610T173907Z
UID:14732-1751283000-1751288400@drivecleancolorado.org
SUMMARY:Listening Lunch: EV Resiliency Planning
DESCRIPTION:Join us and spread the word! Colorado State University\, Clean Energy Economy for the Region (CLEER)\, and Drive Clean Colorado are hosting a listening session on Monday\, June 30th from 11:30 – 1:00PM at the Morgridge Commons in Glenwood Springs.\nLink for registration: https://col.st/86OrY  |  CSU Contact: Jeff.Engell@colostate.edu
URL:https://drivecleancolorado.org/event/listening-lunch-ev-resiliency-planning/
LOCATION:Morgridge Commons\, Glenwood Springs\, CO
ATTACH;FMTTYPE=image/png:https://drivecleancolorado.org/wp-content/uploads/EV-Resilience-Listening-Session_SouthWest_Final.png
END:VEVENT
END:VCALENDAR