BEGIN:VCALENDAR
VERSION:2.0
PRODID:-//Drive Clean Colorado - ECPv6.15.19//NONSGML v1.0//EN
CALSCALE:GREGORIAN
METHOD:PUBLISH
X-ORIGINAL-URL:https://drivecleancolorado.org
X-WR-CALDESC:Events for Drive Clean Colorado
REFRESH-INTERVAL;VALUE=DURATION:PT1H
X-Robots-Tag:noindex
X-PUBLISHED-TTL:PT1H
BEGIN:VTIMEZONE
TZID:America/Denver
BEGIN:DAYLIGHT
TZOFFSETFROM:-0700
TZOFFSETTO:-0600
TZNAME:MDT
DTSTART:20240310T090000
END:DAYLIGHT
BEGIN:STANDARD
TZOFFSETFROM:-0600
TZOFFSETTO:-0700
TZNAME:MST
DTSTART:20241103T080000
END:STANDARD
BEGIN:DAYLIGHT
TZOFFSETFROM:-0700
TZOFFSETTO:-0600
TZNAME:MDT
DTSTART:20250309T090000
END:DAYLIGHT
BEGIN:STANDARD
TZOFFSETFROM:-0600
TZOFFSETTO:-0700
TZNAME:MST
DTSTART:20251102T080000
END:STANDARD
BEGIN:DAYLIGHT
TZOFFSETFROM:-0700
TZOFFSETTO:-0600
TZNAME:MDT
DTSTART:20260308T090000
END:DAYLIGHT
BEGIN:STANDARD
TZOFFSETFROM:-0600
TZOFFSETTO:-0700
TZNAME:MST
DTSTART:20261101T080000
END:STANDARD
END:VTIMEZONE
BEGIN:VEVENT
DTSTART;TZID=America/Denver:20250529T093000
DTEND;TZID=America/Denver:20250529T103000
DTSTAMP:20260421T094035
CREATED:20241210T221338Z
LAST-MODIFIED:20250523T013400Z
UID:13179-1748511000-1748514600@drivecleancolorado.org
SUMMARY:Coalition Conversation - May
DESCRIPTION:Join us for the May Coalition Conversation on May 29 from 9:30–10:30 a.m. MT! \nThese monthly virtual meetups are open to anyone interested in advancing clean transportation across Colorado and are a great opportunity to connect and collaborate with fellow industry leaders in a casual environment. Each session features updates from DCC\, time for discussion and Q&A\, and presentations from new and returning members who are making an impact across the state. \nThis month\, we’re excited to hear from: \n– City of Arvada-American Facilities Professionals-Rush Enterprises\, Inc– RIZON Truck \nThese virtual events are a great opportunity to connect and collaborate with fellow industry leaders in a casual environment. Your participation is key to these important discussions\, and we look forward to having you join us!  \nIf you’re a DCC member\, mark your calendar for the last Thursday of each month and reach out to Ryan Banbury if you’d like to present during a future session. \nREGISTER NOW!* When registering\, please ensure you select all Coalition Conversation dates you plan to attend.
URL:https://drivecleancolorado.org/event/coalition-conversation-may/
CATEGORIES:Coalition Conversation,Stakeholder
ATTACH;FMTTYPE=image/png:https://drivecleancolorado.org/wp-content/uploads/13-1.png
END:VEVENT
END:VCALENDAR