BEGIN:VCALENDAR
VERSION:2.0
PRODID:-//Drive Clean Colorado - ECPv6.15.19//NONSGML v1.0//EN
CALSCALE:GREGORIAN
METHOD:PUBLISH
X-WR-CALNAME:Drive Clean Colorado
X-ORIGINAL-URL:https://drivecleancolorado.org
X-WR-CALDESC:Events for Drive Clean Colorado
REFRESH-INTERVAL;VALUE=DURATION:PT1H
X-Robots-Tag:noindex
X-PUBLISHED-TTL:PT1H
BEGIN:VTIMEZONE
TZID:America/Denver
BEGIN:DAYLIGHT
TZOFFSETFROM:-0700
TZOFFSETTO:-0600
TZNAME:MDT
DTSTART:20240310T090000
END:DAYLIGHT
BEGIN:STANDARD
TZOFFSETFROM:-0600
TZOFFSETTO:-0700
TZNAME:MST
DTSTART:20241103T080000
END:STANDARD
BEGIN:DAYLIGHT
TZOFFSETFROM:-0700
TZOFFSETTO:-0600
TZNAME:MDT
DTSTART:20250309T090000
END:DAYLIGHT
BEGIN:STANDARD
TZOFFSETFROM:-0600
TZOFFSETTO:-0700
TZNAME:MST
DTSTART:20251102T080000
END:STANDARD
BEGIN:DAYLIGHT
TZOFFSETFROM:-0700
TZOFFSETTO:-0600
TZNAME:MDT
DTSTART:20260308T090000
END:DAYLIGHT
BEGIN:STANDARD
TZOFFSETFROM:-0600
TZOFFSETTO:-0700
TZNAME:MST
DTSTART:20261101T080000
END:STANDARD
END:VTIMEZONE
BEGIN:VEVENT
DTSTART;TZID=America/Denver:20250523T110000
DTEND;TZID=America/Denver:20250523T150000
DTSTAMP:20260421T180149
CREATED:20250331T160445Z
LAST-MODIFIED:20250516T173641Z
UID:14177-1747998000-1748012400@drivecleancolorado.org
SUMMARY:Trinidad EV Ride & Drive Experience [POSTPONED]
DESCRIPTION:POSTPONED! Stay tuned for a new date.\nExperience Electric in Trinidad\, CO!\nEV Ride & Drive EventLocation: Hilton Garden Inn – 201 Americana Rd.\, Trinidad\, CODate: Friday\, May 23\, 2025Time: 11:00 AM – 3:00 PM \nCurious about electric vehicles? Join us for a hands-on EV Ride & Drive Experience! Test drive the latest all-electric and plug-in hybrid vehicles\, learn how easy it is to charge\, and discover available incentives to help you make the switch. Our EV experts will be on-site to answer all your questions— don’t miss this opportunity to explore the future of clean transportation. \nWhat to Expect: \n\nTest drive an EV\nLearn about charging and infrastructure\nExplore available incentives and cost savings\n\nWe look forward to seeing you there!
URL:https://drivecleancolorado.org/event/trinidad-co-ev-ride-drive-experience/
LOCATION:Hilton Garden Inn\, 201 Americana Rd.\, Trinidad
ATTACH;FMTTYPE=image/png:https://drivecleancolorado.org/wp-content/uploads/Trinidad_RD.png
END:VEVENT
END:VCALENDAR