BEGIN:VCALENDAR
VERSION:2.0
PRODID:-//Drive Clean Colorado - ECPv6.15.19//NONSGML v1.0//EN
CALSCALE:GREGORIAN
METHOD:PUBLISH
X-ORIGINAL-URL:https://drivecleancolorado.org
X-WR-CALDESC:Events for Drive Clean Colorado
REFRESH-INTERVAL;VALUE=DURATION:PT1H
X-Robots-Tag:noindex
X-PUBLISHED-TTL:PT1H
BEGIN:VTIMEZONE
TZID:America/Denver
BEGIN:DAYLIGHT
TZOFFSETFROM:-0700
TZOFFSETTO:-0600
TZNAME:MDT
DTSTART:20240310T090000
END:DAYLIGHT
BEGIN:STANDARD
TZOFFSETFROM:-0600
TZOFFSETTO:-0700
TZNAME:MST
DTSTART:20241103T080000
END:STANDARD
BEGIN:DAYLIGHT
TZOFFSETFROM:-0700
TZOFFSETTO:-0600
TZNAME:MDT
DTSTART:20250309T090000
END:DAYLIGHT
BEGIN:STANDARD
TZOFFSETFROM:-0600
TZOFFSETTO:-0700
TZNAME:MST
DTSTART:20251102T080000
END:STANDARD
BEGIN:DAYLIGHT
TZOFFSETFROM:-0700
TZOFFSETTO:-0600
TZNAME:MDT
DTSTART:20260308T090000
END:DAYLIGHT
BEGIN:STANDARD
TZOFFSETFROM:-0600
TZOFFSETTO:-0700
TZNAME:MST
DTSTART:20261101T080000
END:STANDARD
END:VTIMEZONE
BEGIN:VEVENT
DTSTART;TZID=America/Denver:20250520T170000
DTEND;TZID=America/Denver:20250520T190000
DTSTAMP:20260421T222419
CREATED:20250509T163730Z
LAST-MODIFIED:20250509T163853Z
UID:14492-1747760400-1747767600@drivecleancolorado.org
SUMMARY:Power Up Your Business Vehicles: EV Charging Grant Info Session
DESCRIPTION:Interested in switching your business or fleet vehicles to electric vehicles (EVs) and saving money on fuel and maintenance while supporting cleaner air in your community? Join us for a free online informational session to learn how you can apply for the upcoming Fleet-ZERO grant — a Colorado Energy Office funding opportunity supporting EV charging for commercial fleet and business vehicles. \nSpanish interpretation will be provided to ensure accessibility for all attendees. \nDate: Tuesday\, May 20\, 2025\n Time: 5:00 PM – 6:30 PM Mountain Time (MT)\n💻  Location: Online (Zoom link provided upon registration) & FB live \n📝 RSVP: https://www.eventbrite.com/e/power-up-your-business-ev-charging-grant-info-session-tickets-1347350103429?aff=oddtdtcreator \nThis online informational session is designed to help participants: \n\nUnderstand grant eligibility and funding amounts\nLearn how EV charging can support your fleet or business vehicle operations\nGet tips for building a strong and competitive application\nAsk questions directly to program experts\n\nWhether you’re a business owner\, contractor\, truck or delivery driver\, fleet operator\, operate a few company vehicles\, or a sustainability officer\, this is a great opportunity to learn about and prepare for the Fleet-ZERO grant program and take the next step toward a cleaner\, more efficient\, and cost-effective operation.
URL:https://drivecleancolorado.org/event/power-up-your-business-vehicles-ev-charging-grant-info-session/
CATEGORIES:Fleet,Funding Opportunities,Stakeholder
ATTACH;FMTTYPE=image/png:https://drivecleancolorado.org/wp-content/uploads/Screenshot-2025-05-08-at-4.36.52 PM.png
END:VEVENT
END:VCALENDAR